BEGIN:VCALENDAR
VERSION:2.0
PRODID:-//ChamberMaster//Event Calendar 2.0//EN
METHOD:PUBLISH
X-PUBLISHED-TTL:P3D
REFRESH-INTERVAL:P3D
CALSCALE:GREGORIAN
BEGIN:VEVENT
DTSTART:20170504T220000Z
DTEND:20170505T000000Z
X-MICROSOFT-CDO-ALLDAYEVENT:FALSE
SUMMARY:Ribbon Cutting-Holiday Inn Express
DESCRIPTION:Come explore the newly renovated Holiday Inn Express at Village West.\n\nRibbon cutting\, Hors d'oeurve\, refreshments and door prizes!
X-ALT-DESC;FMTTYPE=text/html:Come explore the newly renovated Holiday Inn Express at Village West.<br />\nRibbon cutting\, Hors d&#39\;oeurve\,&nbsp\;refreshments and door prizes!
LOCATION:Holiday Inn Express\, Village West 1931 Prairie Crossing Kansas City\, KS 66111
UID:e.1213.504
SEQUENCE:3
DTSTAMP:20260419T195901Z
URL:https://business.kckchamber.com/events/details/ribbon-cutting-holiday-inn-express-504
END:VEVENT

END:VCALENDAR
