BEGIN:VCALENDAR
VERSION:2.0
PRODID:-//ChamberMaster//Event Calendar 2.0//EN
METHOD:PUBLISH
X-PUBLISHED-TTL:P3D
REFRESH-INTERVAL:P3D
CALSCALE:GREGORIAN
BEGIN:VEVENT
DTSTART:20140814T230000Z
DTEND:20140815T000000Z
X-MICROSOFT-CDO-ALLDAYEVENT:FALSE
SUMMARY:Ribbon Cutting: Hope Distribution Center
DESCRIPTION:Join Catholic Charities of Northeast Kansas as they celebrate the opening of the Centralized Food Distribution Center. The celebration will include a blessing by the Most Reverend Archbishop Joseph F. Naumann\, a ribbon cutting and comments by community leaders. Tours and a reception will follow.
X-ALT-DESC;FMTTYPE=text/html:Join Catholic Charities of Northeast Kansas as they celebrate the opening of the Centralized Food Distribution Center. The celebration will include a blessing by the Most Reverend Archbishop Joseph F. Naumann\, a ribbon cutting and comments by community leaders. Tours and a reception will follow.
LOCATION:1708 Steele Road Kansas City\, Kansas (off O8th St. Expressway and Steele Road)
UID:e.1213.179
SEQUENCE:3
DTSTAMP:20260423T232022Z
URL:https://business.kckchamber.com/events/details/ribbon-cutting-hope-distribution-center-08-14-2014-179
END:VEVENT

END:VCALENDAR
