BEGIN:VCALENDAR
VERSION:2.0
PRODID:-//ChamberMaster//Event Calendar 2.0//EN
METHOD:PUBLISH
X-PUBLISHED-TTL:P3D
REFRESH-INTERVAL:P3D
CALSCALE:GREGORIAN
BEGIN:VEVENT
DTSTART:20130917T210000Z
DTEND:20130917T220000Z
X-MICROSOFT-CDO-ALLDAYEVENT:FALSE
SUMMARY:Ribbon Cutting -- Horace Mann Apartments
DESCRIPTION:Foutch Brothers invites you to the Horace Mann Apartments Ribbon Cutting Ceremony.
X-ALT-DESC;FMTTYPE=text/html:Foutch Brothers invites you to the Horace Mann Apartments Ribbon Cutting Ceremony.
LOCATION:824 State Avenue Kansas City\, Kansas
UID:e.1213.95
SEQUENCE:3
DTSTAMP:20260424T155557Z
URL:https://business.kckchamber.com/events/details/ribbon-cutting-horace-mann-apartments-09-17-2013-95
END:VEVENT

END:VCALENDAR
