BEGIN:VCALENDAR
VERSION:2.0
PRODID:-//ChamberMaster//Event Calendar 2.0//EN
METHOD:PUBLISH
X-PUBLISHED-TTL:P3D
REFRESH-INTERVAL:P3D
CALSCALE:GREGORIAN
BEGIN:VEVENT
DTSTART:20140925T210000Z
DTEND:20140925T220000Z
X-MICROSOFT-CDO-ALLDAYEVENT:FALSE
SUMMARY:Ribbon Cutting - Kansas City Dental Associates
DESCRIPTION:Ribbon Cutting\n\n\n\nHelp us celebrate the opening of Kansas City Dental Associates at a Ribbon Cutting!
X-ALT-DESC;FMTTYPE=text/html:<span style="font-size:20px\;"><strong>Ribbon Cutting</strong></span><br />\n<br />\nHelp us celebrate the opening of Kansas City Dental Associates at a Ribbon Cutting!
LOCATION:707 Minnesota\, Suite 100 (Security Bank Building) Kansas City\, Kansas
UID:e.1213.193
SEQUENCE:3
DTSTAMP:20260423T220916Z
URL:https://business.kckchamber.com/events/details/ribbon-cutting-kansas-city-dental-associates-09-25-2014-193
END:VEVENT

END:VCALENDAR
