BEGIN:VCALENDAR
VERSION:2.0
PRODID:-//ChamberMaster//Event Calendar 2.0//EN
METHOD:PUBLISH
X-PUBLISHED-TTL:P3D
REFRESH-INTERVAL:P3D
CALSCALE:GREGORIAN
BEGIN:VEVENT
DTSTART:20130910T213000Z
DTEND:20130910T223000Z
X-MICROSOFT-CDO-ALLDAYEVENT:FALSE
SUMMARY:Ribbon Cutting - Mark Twain Elementary
DESCRIPTION:A ribbon cutting ceremony for the new Mark Twain Elementary School will take place at 4:30 p.m. Tuesday\, Sept. 10. Staff\, students and the community are invited to come by and see the school. The regular Board of Education meeting will follow the event at 5:30 p.m.
X-ALT-DESC;FMTTYPE=text/html:<div style="color: gray">\n	<h5 class="uiStreamMessage userContentWrapper" data-ft="{&quot\;type&quot\;:1\,&quot\;tn&quot\;:&quot\;K&quot\;}">\n		<span class="messageBody" data-ft="{&quot\;type&quot\;:3}"><span class="userContent"><span style="font-size: 14px"><span style="color: #000000"><span style="font-family: times new roman">A ribbon cutting ceremony for the new Mark Twain Elementary School will take place at 4:30 p.m. Tuesday\, Sept. 10. Staff\, students and the community are invited to come by and see the school. The regular Board of Education meeting will follow the event at 5:30 p.m.</span></span></span></span></span></h5>\n</div>\n
LOCATION:2300 Minnesota Ave. Kansas City\, Kansas
UID:e.1213.92
SEQUENCE:3
DTSTAMP:20260424T155223Z
URL:https://business.kckchamber.com/events/details/ribbon-cutting-mark-twain-elementary-09-10-2013-92
END:VEVENT

END:VCALENDAR
