BEGIN:VCALENDAR
VERSION:2.0
PRODID:-//ChamberMaster//Event Calendar 2.0//EN
METHOD:PUBLISH
X-PUBLISHED-TTL:P3D
REFRESH-INTERVAL:P3D
CALSCALE:GREGORIAN
BEGIN:VEVENT
DTSTART:20140326T193000Z
DTEND:20140326T200000Z
X-MICROSOFT-CDO-ALLDAYEVENT:FALSE
SUMMARY:Ribbon Cutting -- McAnany\, Van Cleave & Phillips
DESCRIPTION:Join MVP for the Ribbon Cutting of their new Kansas City\, Missouri location.
X-ALT-DESC;FMTTYPE=text/html:Join MVP for the Ribbon Cutting of their new Kansas City\, Missouri location.
LOCATION:MVP Law Firm 2700 Bi-State Drive\, Suite 400 Kansas City\, Mo
UID:e.1213.154
SEQUENCE:3
DTSTAMP:20260424T072553Z
URL:https://business.kckchamber.com/events/details/ribbon-cutting-mcanany-van-cleave-phillips-03-26-2014-154
END:VEVENT

END:VCALENDAR
