BEGIN:VCALENDAR
VERSION:2.0
PRODID:-//ChamberMaster//Event Calendar 2.0//EN
METHOD:PUBLISH
X-PUBLISHED-TTL:P3D
REFRESH-INTERVAL:P3D
CALSCALE:GREGORIAN
BEGIN:VEVENT
DTSTART:20170823T213000Z
DTEND:20170823T223000Z
X-MICROSOFT-CDO-ALLDAYEVENT:FALSE
SUMMARY:Ribbon Cutting: Metro 24 Fitness
DESCRIPTION:Join us in celebrating the grand opening of Metro 24 Fitness in Argentine!
X-ALT-DESC;FMTTYPE=text/html:Join us in celebrating the grand opening of Metro 24 Fitness in Argentine!&nbsp\;&nbsp\;&nbsp\;&nbsp\;
LOCATION:2810 Metropolitan Ave. Kansas City\, KS 66106
UID:e.1213.1527
SEQUENCE:3
DTSTAMP:20260419T144738Z
URL:https://business.kckchamber.com/events/details/ribbon-cutting-metro-24-fitness-1527
END:VEVENT

END:VCALENDAR
