BEGIN:VCALENDAR
VERSION:2.0
PRODID:-//ChamberMaster//Event Calendar 2.0//EN
METHOD:PUBLISH
X-PUBLISHED-TTL:P3D
REFRESH-INTERVAL:P3D
CALSCALE:GREGORIAN
BEGIN:VEVENT
DTSTART:20161117T213000Z
DTEND:20161117T230000Z
X-MICROSOFT-CDO-ALLDAYEVENT:FALSE
SUMMARY:Ribbon Cutting: Midland Care
DESCRIPTION:Please join the KCK Chamber and Midland Care for a Grand Opening and Ribbon Cutting Ceremony!
X-ALT-DESC;FMTTYPE=text/html:Please join the KCK Chamber and Midland Care for a Grand Opening and Ribbon Cutting Ceremony!
LOCATION:818 Ann Avenue Kansas City\, KS 66101
UID:e.1213.379
SEQUENCE:3
DTSTAMP:20260420T054355Z
URL:https://business.kckchamber.com/events/details/ribbon-cutting-midland-care-379
END:VEVENT

END:VCALENDAR
