BEGIN:VCALENDAR
VERSION:2.0
PRODID:-//ChamberMaster//Event Calendar 2.0//EN
METHOD:PUBLISH
X-PUBLISHED-TTL:P3D
REFRESH-INTERVAL:P3D
CALSCALE:GREGORIAN
BEGIN:VEVENT
DTSTART:20130914T170000Z
DTEND:20130914T190000Z
X-MICROSOFT-CDO-ALLDAYEVENT:FALSE
SUMMARY:Ribbon Cutting & Open House -- Goin' Postal
DESCRIPTION:The Goin' Postal store at 7925 State Ave.\, Suite 102 will have its grand opening and ribbon cutting from noon until 2 p.m. Saturday\, Sept. 14. The company's core services are packaging and shipping of goods and parcels. They are authorized agents for FedEx\, DHL\, UPS and the U.S. Postal Service. Dr. Joyce Moore is the franchise owner\; Anthony and Peggy Rowell are company investors. Judy Simmons is the operations manager.
X-ALT-DESC;FMTTYPE=text/html:<div style="color: gray">\n	<span style="color: #000000"><span style="font-size: 12pt"><span style="font-family: times new roman\, serif"><span style="font-family: times new roman">The Goin&rsquo\;&nbsp\;Postal store at 7925 State Ave.\, Suite 102 will have its grand opening and ribbon cutting from&nbsp\;noon until 2 p.m. Saturday\, Sept. 14.&nbsp\;The company&rsquo\;s core&nbsp\;services are packaging and shipping&nbsp\;of goods and parcels. They are authorized agents for FedEx\, DHL\, UPS and the&nbsp\;U.S. Postal Service. Dr. Joyce Moore is the franchise owner\; Anthony and Peggy&nbsp\;Rowell are company investors. Judy&nbsp\;Simmons is the operations manager.</span></span></span></span><br />\n	&nbsp\;</div>\n
LOCATION:7925 State Avenue\, Suite 102 Kansas City\, Kansas
UID:e.1213.96
SEQUENCE:3
DTSTAMP:20260424T155506Z
URL:https://business.kckchamber.com/events/details/ribbon-cutting-open-house-goin-postal-09-14-2013-96
END:VEVENT

END:VCALENDAR
