BEGIN:VCALENDAR
VERSION:2.0
PRODID:-//ChamberMaster//Event Calendar 2.0//EN
METHOD:PUBLISH
X-PUBLISHED-TTL:P3D
REFRESH-INTERVAL:P3D
CALSCALE:GREGORIAN
BEGIN:VEVENT
DTSTART:20131130T170000Z
DTEND:20131130T200000Z
X-MICROSOFT-CDO-ALLDAYEVENT:FALSE
SUMMARY:Ribbon Cutting & Open House -- H&R Block
DESCRIPTION:H&R Block invites you to an Open House and Grand Re-Opening ribbon cutting at the 151 S. 18th Street office in the Prescott Plaza Shopping Center\, Kansas City\, Kan.\, on Saturday\, Nov. 30 from 11:00 a.m.   2:00 p.m. The ribbon cutting will be at 12:00 p.m.\, noon. They also will be offering free Second Look reviews of 2010-2012 tax returns. In addition\, H&R Block is pitching in to help Big Brothers and Big Sisters with a clothing drive. People are encouraged to bring in gently used items to donate. For more information about the H&R Block Open House\, contact Sharita Hutton\, 816-442-033.
X-ALT-DESC;FMTTYPE=text/html:<span style="font-size: 12pt"><span style="color: black"><span style="font-family: times new roman\, serif"><span style="font-family: times new roman">H&amp\;R Block invites you to an Open House and Grand Re-Opening ribbon cutting at the 151 S. 18th Street office in the Prescott Plaza Shopping Center\, Kansas City\, Kan.\, on Saturday\, Nov. 30 from 11:00 a.m. &ndash\; 2:00 p.m. The ribbon cutting will be at 12:00 p.m.\, noon. They also will be offering free Second Look reviews of 2010-2012 tax returns. In addition\, H&amp\;R Block is pitching in to help Big Brothers and Big Sisters with a clothing drive. People are encouraged to bring in gently used items to donate. For more information about the H&amp\;R Block Open House\, contact Sharita Hutton\, 816-442-033.</span></span></span></span><br />\n
LOCATION:H&R Block 151 S. 18th Street Prescott Plaza Shopping Center Kansas City\, Kansas
UID:e.1213.118
SEQUENCE:3
DTSTAMP:20260424T125709Z
URL:https://business.kckchamber.com/events/details/ribbon-cutting-open-house-h-r-block-11-30-2013-118
END:VEVENT

END:VCALENDAR
