BEGIN:VCALENDAR
VERSION:2.0
PRODID:-//ChamberMaster//Event Calendar 2.0//EN
METHOD:PUBLISH
X-PUBLISHED-TTL:P3D
REFRESH-INTERVAL:P3D
CALSCALE:GREGORIAN
BEGIN:VEVENT
DTSTART:20141106T233000Z
DTEND:20141107T010000Z
X-MICROSOFT-CDO-ALLDAYEVENT:FALSE
SUMMARY:Ribbon Cutting & Open House: Midwest Cancer Alliance
DESCRIPTION:You are invited to the Midwest Cancer Alliance Survivorship Transition Clinic \n\n\n\nThis clinic is designed to meet the ongoing and unique healthcare needs of adult survivors of pediatric cancers. It represents an exciting long-term collaboration between the Midwest Cancer Alliance\, Children's Mercy Hospital and The University of Kansas Medical Center.
X-ALT-DESC;FMTTYPE=text/html:<span style="font-size:14px\;">You are invited to the<span style="font-family:arial\;"> <strong>Midwest Cancer Alliance</strong> <strong>Survivorship Transition Clinic</strong>&nbsp\;</span><br />\n<br />\n<span style="font-family:arial\;">This clinic is designed to meet the ongoing and unique healthcare needs of adult survivors of pediatric cancers. It</span>&nbsp\;represents an exciting long-term collaboration between the Midwest Cancer Alliance\, Children&rsquo\;s Mercy Hospital and The University of Kansas Medical Center.&nbsp\;</span><br />\n&nbsp\;
LOCATION:Midwest Cancer Alliance Survivorship Transition Clinic The University of Kansas Medical Office Building 4th Floor 3901 Rainbow Blvd. Kansas City\, KS 66160 Parking will be validated in the Olathe Garage.
UID:e.1213.200
SEQUENCE:3
DTSTAMP:20260423T204045Z
URL:https://business.kckchamber.com/events/details/ribbon-cutting-open-house-midwest-cancer-alliance-11-06-2014-200
END:VEVENT

END:VCALENDAR
