BEGIN:VCALENDAR
VERSION:2.0
PRODID:-//ChamberMaster//Event Calendar 2.0//EN
METHOD:PUBLISH
X-PUBLISHED-TTL:P3D
REFRESH-INTERVAL:P3D
CALSCALE:GREGORIAN
BEGIN:VEVENT
DTSTART:20140909T213000Z
DTEND:20140909T233000Z
X-MICROSOFT-CDO-ALLDAYEVENT:FALSE
SUMMARY:Ribbon Cutting & Open House: Providence Medical Group Cardiology
DESCRIPTION:Providence Medical Group\n\nInvites you to an open house and ribbon cutting to celebrate the new facility of the Providence Medical Group Cardiology and the state-of-the-art vein center.\n\n\n\nHors d'oeuvres will be served.
X-ALT-DESC;FMTTYPE=text/html:<span style="font-size:14px\;"><strong>Providence Medical Group</strong></span><br />\nInvites you to an open house and ribbon cutting to celebrate the new facility of the Providence Medical Group Cardiology and the state-of-the-art vein center.<br />\n<br />\nHors d&#39\;oeuvres will be served.
LOCATION:8919 Parallel Parkway East Tower\, Suite 580 Kansas City\, Kansas
UID:e.1213.183
SEQUENCE:3
DTSTAMP:20260423T232140Z
URL:https://business.kckchamber.com/events/details/ribbon-cutting-open-house-providence-medical-group-cardiology-09-09-2014-183
END:VEVENT

END:VCALENDAR
