BEGIN:VCALENDAR
VERSION:2.0
PRODID:-//ChamberMaster//Event Calendar 2.0//EN
METHOD:PUBLISH
X-PUBLISHED-TTL:P3D
REFRESH-INTERVAL:P3D
CALSCALE:GREGORIAN
BEGIN:VEVENT
DTSTART:20170913T203000Z
DTEND:20170913T230000Z
X-MICROSOFT-CDO-ALLDAYEVENT:FALSE
SUMMARY:Ribbon Cutting & Open House: Saint Francis Community Services
DESCRIPTION:Join Saint Francis Community Services for an Open House/Ribbon Cutting at their new Kansas City office!
X-ALT-DESC;FMTTYPE=text/html:Join Saint Francis Community Services for an Open House/Ribbon Cutting at their new Kansas City office!&nbsp\;&nbsp\;&nbsp\;&nbsp\;&nbsp\;
LOCATION:1121 N. 5th Street Kansas City\, KS 66117
UID:e.1213.1531
SEQUENCE:3
DTSTAMP:20260419T130344Z
URL:https://business.kckchamber.com/events/details/ribbon-cutting-open-house-saint-francis-community-services-1531
END:VEVENT

END:VCALENDAR
