BEGIN:VCALENDAR
VERSION:2.0
PRODID:-//ChamberMaster//Event Calendar 2.0//EN
METHOD:PUBLISH
X-PUBLISHED-TTL:P3D
REFRESH-INTERVAL:P3D
CALSCALE:GREGORIAN
BEGIN:VEVENT
DTSTART:20141001T204500Z
DTEND:20141001T220000Z
X-MICROSOFT-CDO-ALLDAYEVENT:FALSE
SUMMARY:Ribbon Cutting & Reception - Donnelly College
DESCRIPTION:Ribbon Cutting & Reception\n\n\n\nHelp Donnelly College celebrate the JAG\, Gateway to College & Kansas City Kansas Public Schools Partnership\, at a Ribbon Cutting and Reception.
X-ALT-DESC;FMTTYPE=text/html:<span style="font-size:16px\;"><b>Ribbon Cutting &amp\; Reception</b></span><br />\n<br />\nHelp Donnelly College celebrate the JAG\, Gateway to College &amp\; Kansas City Kansas Public Schools Partnership\, at a Ribbon Cutting and Reception.<br />\n&nbsp\;
LOCATION:Donnelly College Event Center 608 N. 18th Street Kansas City\, Kansas
UID:e.1213.194
SEQUENCE:3
DTSTAMP:20260423T203907Z
URL:https://business.kckchamber.com/events/details/ribbon-cutting-reception-donnelly-college-10-01-2014-194
END:VEVENT

END:VCALENDAR
