BEGIN:VCALENDAR
VERSION:2.0
PRODID:-//ChamberMaster//Event Calendar 2.0//EN
METHOD:PUBLISH
X-PUBLISHED-TTL:P3D
REFRESH-INTERVAL:P3D
CALSCALE:GREGORIAN
BEGIN:VEVENT
DTSTART:20170801T210000Z
DTEND:20170801T220000Z
X-MICROSOFT-CDO-ALLDAYEVENT:FALSE
SUMMARY:Ribbon Cutting: Sprint Wyandotte Plaza
DESCRIPTION:Join us as we celebrate KCK Chamber new member\, Sprint Wyandotte Plaza grand opening with a ribbon cutting ceremony!
X-ALT-DESC;FMTTYPE=text/html:Join us as we celebrate KCK Chamber new member\, Sprint Wyandotte Plaza grand opening with a ribbon cutting ceremony!&nbsp\;&nbsp\;&nbsp\;&nbsp\;&nbsp\;<br />\n&nbsp\;
LOCATION:7706 State Ave. Kansas City\, KS 66112
UID:e.1213.1524
SEQUENCE:3
DTSTAMP:20260419T131326Z
URL:https://business.kckchamber.com/events/details/ribbon-cutting-sprint-wyandotte-plaza-1524
END:VEVENT

END:VCALENDAR
