BEGIN:VCALENDAR
VERSION:2.0
PRODID:-//ChamberMaster//Event Calendar 2.0//EN
METHOD:PUBLISH
X-PUBLISHED-TTL:P3D
REFRESH-INTERVAL:P3D
CALSCALE:GREGORIAN
BEGIN:VEVENT
DTSTART:20170516T220000Z
DTEND:20170517T000000Z
X-MICROSOFT-CDO-ALLDAYEVENT:FALSE
SUMMARY:Ribbon Cutting-Todd's Clothiers
DESCRIPTION:Join us for another exciting Ribbon Cutting and Open House at Todd's Clothiers as we welcome them to their new location in Overland Park!\n\n\n\n"Blend" juice and smoothie truck will have samples for guests and Todd's will announce a "Deal of the Day!"
X-ALT-DESC;FMTTYPE=text/html:Join us for another exciting Ribbon Cutting and Open House at Todd&#39\;s Clothiers as we welcome them to their new location in Overland Park!<br />\n<br />\n&quot\;Blend&quot\; juice and smoothie truck will have samples for guests and Todd&#39\;s will announce a &quot\;Deal of the Day!&quot\;
LOCATION:Todd's Clothiers 10328 Mastin Overland Park\, KS 66212
UID:e.1213.505
SEQUENCE:3
DTSTAMP:20260419T195757Z
URL:https://business.kckchamber.com/events/details/ribbon-cutting-todd-s-clothiers-505
END:VEVENT

END:VCALENDAR
