BEGIN:VCALENDAR
VERSION:2.0
PRODID:-//ChamberMaster//Event Calendar 2.0//EN
METHOD:PUBLISH
X-PUBLISHED-TTL:P3D
REFRESH-INTERVAL:P3D
CALSCALE:GREGORIAN
BEGIN:VEVENT
DTSTART:20141022T150000Z
DTEND:20141022T153000Z
X-MICROSOFT-CDO-ALLDAYEVENT:FALSE
SUMMARY:Ribbon Cutting - Turner Community Walking Park
DESCRIPTION:Commissioner Angela Markley is hosting a Ribbon Cutting at 10:00 a.m. Wednesday\, Oct. 22 to celebrate the completion of new sidewalks\, curbs and lighting improvements to Turner Community Walking Park. The location is 42nd and Shawnee\, across from Matney Park and near the Junction Elementary School.
X-ALT-DESC;FMTTYPE=text/html:<span style="font-size:12px\;"><span style="font-family:arial\;">Commissioner Angela Markley is hosting a Ribbon Cutting at 10:00 a.m. Wednesday\, Oct. 22 to celebrate the completion of new sidewalks\, curbs and lighting improvements to Turner Community Walking Park. The location is 42<sup>nd</sup> and Shawnee\, across from Matney Park and near the Junction Elementary School.</span></span>
LOCATION:42nd and Shawnee\, across from Matney Park and near the Junction Elementary School in Kansas City\, Kansas.
UID:e.1213.205
SEQUENCE:3
DTSTAMP:20260423T204024Z
URL:https://business.kckchamber.com/events/details/ribbon-cutting-turner-community-walking-park-10-22-2014-205
END:VEVENT

END:VCALENDAR
