BEGIN:VCALENDAR
VERSION:2.0
PRODID:-//ChamberMaster//Event Calendar 2.0//EN
METHOD:PUBLISH
X-PUBLISHED-TTL:P3D
REFRESH-INTERVAL:P3D
CALSCALE:GREGORIAN
BEGIN:VEVENT
DTSTART:20131018T170000Z
DTEND:20131018T173000Z
X-MICROSOFT-CDO-ALLDAYEVENT:FALSE
SUMMARY:Ribbon Cutting - Unity One Credit Union
DESCRIPTION:You are invited to the Ribbon Cutting for Unity One Credit Union.
X-ALT-DESC;FMTTYPE=text/html:You are invited to the Ribbon Cutting&nbsp\;for Unity One Credit Union.
LOCATION:4150 Kansas Ave. Kansas City\, Kansas_
UID:e.1213.109
SEQUENCE:3
DTSTAMP:20260424T154008Z
URL:https://business.kckchamber.com/events/details/ribbon-cutting-unity-one-credit-union-10-18-2013-109
END:VEVENT

END:VCALENDAR
