BEGIN:VCALENDAR
VERSION:2.0
PRODID:-//ChamberMaster//Event Calendar 2.0//EN
METHOD:PUBLISH
X-PUBLISHED-TTL:P3D
REFRESH-INTERVAL:P3D
CALSCALE:GREGORIAN
BEGIN:VEVENT
DTSTART:20140726T140000Z
DTEND:20140726T143000Z
X-MICROSOFT-CDO-ALLDAYEVENT:FALSE
SUMMARY:Ribbon Cutting: Wyandotte County Satellite Voting Office
DESCRIPTION:Help celebrate the opening of Wyandotte County's Satellite Voting Office at a Ribbon Cutting!
X-ALT-DESC;FMTTYPE=text/html:<strong><span style="color:#222222\;"><span style="font-size:12.0pt\;">Help celebrate the opening of Wyandotte County&#39\;s Satellite Voting Office at a Ribbon Cutting!</span></span></strong>
LOCATION:Wyandotte County Satellite Voting Office In the old tourist center off exit 110 near Kansas Speedway.
UID:e.1213.180
SEQUENCE:3
DTSTAMP:20260424T004353Z
URL:https://business.kckchamber.com/events/details/ribbon-cutting-wyandotte-county-satellite-voting-office-07-26-2014-180
END:VEVENT

END:VCALENDAR
