BEGIN:VCALENDAR
VERSION:2.0
PRODID:-//ChamberMaster//Event Calendar 2.0//EN
METHOD:PUBLISH
X-PUBLISHED-TTL:P3D
REFRESH-INTERVAL:P3D
CALSCALE:GREGORIAN
BEGIN:VEVENT
DTSTART:20141030T143000Z
DTEND:20141030T163000Z
X-MICROSOFT-CDO-ALLDAYEVENT:FALSE
SUMMARY:Rock Your Holiday Campaigns - Constant Contact Seminar
DESCRIPTION:Rock Your Holiday Campaigns and Give Yourself the Gift of More Customers\n \n\nIt's that time of year   the hustle and bustle of the holiday season is upon us. There is no better time to reach out to your customers\, bring new clients in and boost repeat and referral business! Whether you have a retail shop\, provide a specialized service or work business-to-business\, or have a nonprofit in need out outreach\, this workshop will provide simple\, practical tips for closing out 2014 on a high note. Participants will learn:\n\n- How to leverage social media to engage new and existing customers\n\n- Which  promotions and special offers work for your business right now \n\n- Best ways to drive response from your emails and social posts\n\n- Easy strategies to keep your offers looking good on a cell phone or tablet \n\n- How to create and manage a campaign for the holidays (It's easier than you might think!) \n\n- Create a simple playbook to plan your marketing activities all season long\n\n- Most importantly\, how to measure your results to get more out of your effort along the way\n\nThis session is best suited for beginners in online marketing but all skill levels are welcome. The subject matter is less about technology and more about how to grow your business or organization.
X-ALT-DESC;FMTTYPE=text/html:<h1 id="evm-event-title" style="margin: 0px\; padding: 0px\; font-size: 26px\; color: rgb(60\, 60\, 60)\; line-height: 31px\; font-family: Arial\, Helvetica\, sans-serif\; background-color: rgb(246\, 246\, 246)\;"><span style="font-size:16px\;"><span style="font-family:tahoma\;"><strong>Rock Your Holiday Campaigns and Give Yourself the Gift of More Customers</strong></span></span></h1>\n&nbsp\;\n\n<p style="margin: 0px 0px 18px\; padding: 0px\; font-family: Arial\, Helvetica\, sans-serif\; font-size: 12px\; line-height: 17.3999996185303px\; background-color: rgb(246\, 246\, 246)\;"><span style="font-size:12px\;"><span style="font-family:tahoma\;"><span title="">It&rsquo\;s that time of year &ndash\; the hustle and bustle of the holiday season is upon us. There is no better time to reach out to your customers\, bring new clients in and boost repeat and referral business! Whether you have a retail shop\, provide a specialized service or work business-to-business\, or have a nonprofit in need out outreach\, this workshop will provide simple\, practical tips for closing out 2014 on a high note. Participants will learn:</span></span></span></p>\n\n<p style="margin: 0px 0px 18px\; padding: 0px\; font-family: Arial\, Helvetica\, sans-serif\; font-size: 12px\; line-height: 17.3999996185303px\; background-color: rgb(246\, 246\, 246)\;"><span style="font-size:12px\;"><span style="font-family:tahoma\;"><span title="">- How to leverage social media to engage new and existing customers</span><br />\n<span title="">- Which&nbsp\; promotions and special offers work for your business right now&nbsp\;</span><br />\n<span title="">- Best ways to drive response from your emails and social posts</span><br />\n<span title="">- Easy strategies to keep your offers looking good on a cell phone or tablet&nbsp\;</span><br />\n<span title="">- How to create and manage a campaign for the holidays (It&rsquo\;s easier than you might think!)&nbsp\;</span><br />\n<span title="">- Create a simple playbook to plan your marketing activities all season long</span><br />\n<span title="">- Most importantly\, how to measure your results to get more out of your effort along the way</span></span></span></p>\n\n<p style="margin: 0px 0px 18px\; padding: 0px\; font-family: Arial\, Helvetica\, sans-serif\; font-size: 12px\; line-height: 17.3999996185303px\; background-color: rgb(246\, 246\, 246)\;"><span style="font-size:12px\;"><span style="font-family:tahoma\;"><span title="">This session is best suited for beginners in online marketing but all skill levels are welcome. The subject matter is less about technology and more about how to grow your business or organization.&nbsp\;</span></span></span></p>\n
LOCATION:KCK Area Chamber of Commerce 727 Minnesota Kansas City\, Kansas
UID:e.1213.204
SEQUENCE:3
DTSTAMP:20260423T204112Z
URL:https://business.kckchamber.com/events/details/rock-your-holiday-campaigns-constant-contact-seminar-10-30-2014-204
END:VEVENT

END:VCALENDAR
