BEGIN:VCALENDAR
VERSION:2.0
PRODID:-//ChamberMaster//Event Calendar 2.0//EN
METHOD:PUBLISH
X-PUBLISHED-TTL:P3D
REFRESH-INTERVAL:P3D
CALSCALE:GREGORIAN
BEGIN:VEVENT
DTSTART:20140606T163000Z
DTEND:20140606T183000Z
X-MICROSOFT-CDO-ALLDAYEVENT:FALSE
SUMMARY:Small Business Awards Luncheon 2014
DESCRIPTION:Small Business Awards Luncheon\n\n\n\nSmall businesses are key to Wyandotte County's economy. On June 6\, the KCK Area Chamber of Commerce will announce the 2014 Small Business Award in one of three categories: New Small Business\, Small Business and Non-Profit of the Year. Winners in each category will receive a $100 prize courtesy of U.S. Bank.\n\n\n\nWe regret to inform you that Tom McDonnell is not able to join us on June 6. However\, we are pleased to welcome Wendy Torrance\, PhD\, Director of Entrepreneurship\, Ewing Marion Kauffman Foundation.\n\n\n\nKeynote Speaker: Wendy Torrance\, PhD\, Director of Entrepreneurship\, Ewing Marion Kauffman Foundation
X-ALT-DESC;FMTTYPE=text/html:<strong><span style="font-size: 18px">Small Business Awards Luncheon</span></strong><br />\n<br />\n<span style="font-family: arial\; font-size: 14px\; line-height: 21px\; background-color: rgb(255\, 255\, 255)\;">Small businesses are key to Wyandotte County&rsquo\;s economy. On June 6\, the KCK Area Chamber of Commerce will announce the 2014 Small Business Award in one of three categories: New Small Business\, Small Business and Non-Profit of the Year. Winners in each category will receive a $100 prize courtesy of U.S. Bank.</span><br />\n<br />\n<span style="color: rgb(51\, 51\, 51)\; font-family: Georgia\, 'Times New Roman'\, 'Bitstream Charter'\, Times\, serif\; font-size: 14px\; line-height: 21px\; background-color: rgb(255\, 255\, 255)\;">We regret to inform you that Tom McDonnell is not able to join us on June 6. However\, we are pleased to welcome Wendy Torrance\, PhD\, Director of Entrepreneurship\, Ewing Marion Kauffman Foundation.</span><br />\n<br />\n<strong><span style="font-size:14px\;"><span style="font-family:arial\;">Keynote Speaker:</span></span></strong><span style="font-size:14px\;"><span style="font-family:arial\;">&nbsp\;<b><i>Wendy Torrance\, PhD</i></b>\, Director of Entrepreneurship\, Ewing Marion Kauffman Foundation</span></span><br />\n<br />\n<br />\n&nbsp\;
LOCATION:Sporting Park One Sporting Way Kansas City\, Kansas
UID:e.1213.124
SEQUENCE:3
DTSTAMP:20260424T021122Z
URL:https://business.kckchamber.com/events/details/small-business-awards-luncheon-2014-06-06-2014-124
END:VEVENT

END:VCALENDAR
