BEGIN:VCALENDAR
VERSION:2.0
PRODID:-//ChamberMaster//Event Calendar 2.0//EN
METHOD:PUBLISH
X-PUBLISHED-TTL:P3D
REFRESH-INTERVAL:P3D
CALSCALE:GREGORIAN
BEGIN:VEVENT
DTSTART:20140828T143000Z
DTEND:20140829T043000Z
X-MICROSOFT-CDO-ALLDAYEVENT:FALSE
SUMMARY:Social Media 101
DESCRIPTION:Social Media 101: Where should you be and what do you say when you get there.\n\n\n\nHave you been thinking about marketing your business with social media\, but you feel overwhelmed and not sure how to get started?\n\n \n\nOr maybe you're not convinced that it works?\n\nThis webinar will show you the value of using social media to reach your customers\, how it can lead to new customers and how it drives repeat business from your current customers. We'll take a look at the 5 most popular social media networks   Facebook\, Twitter\, LinkedIn\, Google+ and Pinterest   and help you decide what is right for your business.\n\n\n\nWe'll also look at what comes next: how and what to post on social media.\n\nIn this seminar we will examine:\n\n  The pros of each channel and how they might work for your target audience.\n\n  How to develop an online marketing strategy the works over multiple channels.\n\n  How to attract customers to your social channels.\n\n  What to post on each respective channel to optimize engagement.\n\n  How to respond on social channels.\n\n \n\nThis is a basic class\, but it can benefit almost any small business or non-profit by providing them with the latest information and usage on each of the five major social channels.\n\n\n\nNOTE: This is NOT a hands-on computer seminar. No computers are needed.
X-ALT-DESC;FMTTYPE=text/html:<span style="font-family:tahoma\;"><strong>Social Media 101: </strong>Where should you be and what do you say when you get there.<br />\n<br />\nHave you been thinking about marketing your business with social media\, but you feel overwhelmed and not sure how to get started?<br />\n&nbsp\;<br />\nOr maybe you&rsquo\;re not convinced that it works?<br />\nThis webinar will show you the value of using social media to reach your customers\, how it can lead to new customers and how it drives repeat business from your current customers. We&rsquo\;ll take a look at the 5 most popular social media networks &ndash\; Facebook\, Twitter\, LinkedIn\, Google+ and Pinterest &ndash\; and help you decide what is right for your business.<br />\n<br />\nWe&rsquo\;ll also look at what comes next: how and what to post on social media.<br />\nIn this seminar we will examine:<br />\n&bull\; The pros of each channel and how they might work for your target audience.<br />\n&bull\; How to develop an online marketing strategy the works over multiple channels.<br />\n&bull\; How to attract customers to your social channels.<br />\n&bull\; What to post on each respective channel to optimize engagement.<br />\n&bull\; How to respond on social channels.<br />\n&nbsp\;<br />\nThis is a basic class\, but it can benefit almost any small business or non-profit by providing them with the latest information and usage on each of the five major social channels.<br />\n<br />\nNOTE: This is NOT a hands-on computer seminar. No computers are needed.</span>
LOCATION:KCK Chamber of Commerce 727 Minnesota Kansas City\, Kansas
UID:e.1213.185
SEQUENCE:3
DTSTAMP:20260423T231915Z
URL:https://business.kckchamber.com/events/details/social-media-101-08-28-2014-185
END:VEVENT

END:VCALENDAR
