BEGIN:VCALENDAR
VERSION:2.0
PRODID:-//ChamberMaster//Event Calendar 2.0//EN
METHOD:PUBLISH
X-PUBLISHED-TTL:P3D
REFRESH-INTERVAL:P3D
CALSCALE:GREGORIAN
BEGIN:VEVENT
DTSTART:20131212T150000Z
DTEND:20131212T180000Z
X-MICROSOFT-CDO-ALLDAYEVENT:FALSE
SUMMARY:Social Media & Mega Marketing Meetup
DESCRIPTION:The KCK Chamber is teaming up with Constant Contact to help you learn more about social media at this upcoming seminar. You will receive helpful marketing resources\, tools\, tips and strategies\; and can connect with people and organizations that can help you grow your business\, referrals\, reach and results.
X-ALT-DESC;FMTTYPE=text/html:<div style="color: #808080">\n	<span style="color: #000000"><span style="font-family: times new roman"><span style="font-size: 12px"><span title="">The KCK Chamber is teaming up with Constant Contact to help you learn more about social media at this upcoming seminar.&nbsp\;You will receive&nbsp\;</span></span></span></span><span style="color: #000000"><span style="font-family: times new roman"><span style="font-size: 12px"><span title="">helpful marketing resources\, tools\, tips&nbsp\;and strategies\;&nbsp\;and can connect</span></span></span></span><span style="color: #000000"><span style="font-family: times new roman"><span style="font-size: 12px"><span title=""> with people and organizations that can help you grow your business\, referrals\, reach and&nbsp\;results.</span></span></span></span></div>\n
LOCATION:Kansas City Kansas Public Library 3401 Strong Ave. Kansas City\, Kansas
UID:e.1213.119
SEQUENCE:3
DTSTAMP:20260424T114256Z
URL:https://business.kckchamber.com/events/details/social-media-mega-marketing-meetup-12-12-2013-119
END:VEVENT

END:VCALENDAR
