BEGIN:VCALENDAR
VERSION:2.0
PRODID:-//ChamberMaster//Event Calendar 2.0//EN
METHOD:PUBLISH
X-PUBLISHED-TTL:P3D
REFRESH-INTERVAL:P3D
CALSCALE:GREGORIAN
BEGIN:VEVENT
DTSTART:20140515T003000Z
DTEND:20140515T020000Z
X-MICROSOFT-CDO-ALLDAYEVENT:FALSE
SUMMARY:Sporting Kansas City Night
DESCRIPTION:Want to see a Sporting Kansas City at a reduced rate? KCK Chamber members can at the Wednesday\, May 14 match vs. Philadelphia. Tickets can be purchased directly from Sporting KC here:\n\n\n	Ticket Link:  https://oss.ticketmaster.com/html/go.htmI?l=EN&t=sportingkc&o=78&g=1198    \n	Promo Code: may14
X-ALT-DESC;FMTTYPE=text/html:Want to see a Sporting Kansas City at a reduced rate? KCK Chamber members can at the Wednesday\, May 14&nbsp\;<span style="font-family:arial\,sans-serif\;"><span style="font-size:10.0pt\;">match vs. Philadelphia. Tickets can be&nbsp\;</span></span>purchased directly from Sporting KC here:\n\n<ul>\n	<li><strong><span style="font-family:arial\,sans-serif\;"><span style="font-size:10.0pt\;">Ticket Link:</span></span></strong>&nbsp\; <a href="https://oss.ticketmaster.com/html/go.htmI?l=EN&amp\;t=sportingkc&amp\;o=78&amp\;g=1198"><strong><span style="font-family:arial\,sans-serif\;"><span style="font-size:10.0pt\;">https://oss.ticketmaster.com/html/go.htmI?l=EN&amp\;t=sportingkc&amp\;o=78&amp\;g=1198</span></span></strong></a>&nbsp\;&nbsp\;&nbsp\;&nbsp\;</li>\n	<li><strong><span style="font-family:arial\,sans-serif\;"><span style="font-size:10.0pt\;">Promo Code: may14</span></span></strong></li>\n</ul>\n
LOCATION:Sporting Park One Sporting Way Kansas City\, Kansas
UID:e.1213.169
SEQUENCE:3
DTSTAMP:20260424T053301Z
URL:https://business.kckchamber.com/events/details/sporting-kansas-city-night-05-14-2014-169
END:VEVENT

END:VCALENDAR
