BEGIN:VCALENDAR
VERSION:2.0
PRODID:-//ChamberMaster//Event Calendar 2.0//EN
METHOD:PUBLISH
X-PUBLISHED-TTL:P3D
REFRESH-INTERVAL:P3D
CALSCALE:GREGORIAN
BEGIN:VEVENT
DTSTART:20120711T123000Z
DTEND:20120711T230000Z
X-MICROSOFT-CDO-ALLDAYEVENT:FALSE
SUMMARY:Sunshine Scramble Golf Tournament
DESCRIPTION:Mark your calendars for the the Sunshine Scramble Golf Tournament to be held Wednesday\, July 11th at Dubs Dread Golf Course.   For information on sponsorships and costs for individual players or a team call 913-371-3070.
X-ALT-DESC;FMTTYPE=text/html:<p>\n	Mark your calendars for the the Sunshine Scramble Golf Tournament to be held Wednesday\, July 11th at Dubs Dread Golf Course.&nbsp\;&nbsp\; For information on sponsorships and costs for individual players or a team call 913-371-3070.</p>\n
LOCATION:Dub's Dread Golf Course 12601 Hollingsworth Road Kansas City\, KS 66109
UID:e.1213.14
SEQUENCE:3
DTSTAMP:20260425T150046Z
URL:https://business.kckchamber.com/events/details/sunshine-scramble-golf-tournament-07-11-2012-14
END:VEVENT

END:VCALENDAR
