BEGIN:VCALENDAR
VERSION:2.0
PRODID:-//ChamberMaster//Event Calendar 2.0//EN
METHOD:PUBLISH
X-PUBLISHED-TTL:P3D
REFRESH-INTERVAL:P3D
CALSCALE:GREGORIAN
BEGIN:VEVENT
DTSTART:20200720T210000Z
DTEND:20200720T220000Z
X-MICROSOFT-CDO-ALLDAYEVENT:FALSE
SUMMARY:T-Mobile for Business and the KCK Chamber present Local Technology Panel
DESCRIPTION:Get to know your local support teams and ask questions about what is coming to KC in emerging wireless solutions.
X-ALT-DESC;FMTTYPE=text/html:Get to know your local support teams and ask questions about what is coming to KC in emerging wireless solutions.
LOCATION:WebEx Conference
UID:e.1213.1963
SEQUENCE:3
DTSTAMP:20260419T145719Z
URL:https://business.kckchamber.com/events/details/t-mobile-for-business-and-the-kck-chamber-present-local-technology-panel-1963
END:VEVENT

END:VCALENDAR
