BEGIN:VCALENDAR
VERSION:2.0
PRODID:-//ChamberMaster//Event Calendar 2.0//EN
METHOD:PUBLISH
X-PUBLISHED-TTL:P3D
REFRESH-INTERVAL:P3D
CALSCALE:GREGORIAN
BEGIN:VEVENT
DTSTART:20161102T213000Z
DTEND:20161103T003000Z
X-MICROSOFT-CDO-ALLDAYEVENT:FALSE
SUMMARY:The Best of KCK and Wyandotte County
DESCRIPTION:The KCK Chamber is excited to announce The Best of KCK and Wyandotte County Business Event of the Year -- showcasing our diverse\, collaborative and vibrant business community! \n\n\n\nThe Boulevard Members Club at Children's Mercy Park will be filled with regional businesses of all categories and sizes. Businesses will have an opportunity to display their personality and regional flavor for hundreds of attendees all while gaining exposure and access to the area's leading business professionals. \n\n\n\nATTENTION KCK CHAMBER MEMBERS!\n\nInterested in a booth?\n\n- Booths are FREE as a KCK Chamber Member benefit\, but space is limited! - Non-Member booths are $150\n\n- Individual tickets: $10 Member / $15 Non-Member / $20 Day-Of\n\n- Contact Kate Kershaw\, Director of Partnerships and Membership at kate@kckchamber.com if you are interested in reserving a booth space by Friday\, Oct. 14.\n\n\n\nWhat do I get with a booth?\n\n- Participating companies receive free vendor space and complimentary registration for two company representatives with your confirmation\n\n- Two additional complimentary registrations to share among your business contacts\n\n- One covered table for your display   6' rectangular\n\n- Complimentary parking for you and your guests\n\n- A great event and the opportunity to network with hundreds of business leaders and potential clients\n\n\n\nThank You to Our Sponsors:\n\nBoard of Public Utilities\n\nProvidence Medical Center\n\nHumana\n\nGoogle Fiber\n\nUnified Government of KCK/WyCo\n\nBurns & McDonnell\n\nSecurity Bank\n\nGreat Wolf Lodge\n\nDesign Mechanical\, Inc.\n\nHealthcare Resort of Kansas City\n\nKC Aviation Department\n\nMark One Electric Company\, Inc.\n\nNebraska Furniture Mart\n\nUniversity of Kansas Hospital\n\nGreater KC Building and Construction Trades Council\n\nMcAnany Van Cleave & Phillips\n\nCandlewood Suites\n\nKansas Speedway\n\nNECA/IBEW Power Partners\n\nAT&T\n\nCintas\n\nCountry Club Bank\n\nJR & Co. Roofing Contractors\n\nKU Medical Center\n\nMain Street Credit Union\n\nNeff Packaging\n\nNPB\n\nPipefitters\n\nKCK Women's Chamber\n\nKCKCC
X-ALT-DESC;FMTTYPE=text/html:The KCK Chamber is excited to announce <strong>The Best of KCK and Wyandotte County Business Event of the Year</strong> -- showcasing our diverse\, collaborative and vibrant business community!&nbsp\;<br />\n<br />\nThe Boulevard Members Club&nbsp\;at Children&#39\;s Mercy Park will be filled with regional businesses of all categories and sizes. Businesses will have an opportunity to display their personality and regional flavor for hundreds of attendees all while gaining exposure and access to the area&#39\;s leading business professionals.&nbsp\;<br />\n<br />\n<u><strong>ATTENTION KCK CHAMBER MEMBERS!</strong></u><br />\nInterested in a booth?<br />\n- Booths are <strong>FREE </strong>as a KCK Chamber Member benefit\, but space is limited! -&nbsp\;<span style="line-height: 20.8px\;">Non-Member booths are $</span><span style="line-height: 20.8px\;">150<br />\n- Individual tickets: $10 Member / $15 Non-Member / $20 Day-Of</span><br />\n- Contact Kate Kershaw\, Director of Partnerships and Membership at <a href="mailto:kate@kckchamber.com?subject=Best%20of%20KCK%20Booth%20Interest">kate@kckchamber.com</a> if you are interested in reserving a booth space by <strong>Friday\, Oct. 14.</strong><br />\n<br />\n<u><strong>What do I get with a booth?</strong></u><br />\n-&nbsp\;Participating companies receive free vendor space and complimentary registration for two company representatives with your confirmation<br />\n-&nbsp\;Two additional complimentary registrations to share among your business contacts<br />\n-&nbsp\;One covered table for your display &ndash\; 6&rsquo\; rectangular<br />\n-&nbsp\;Complimentary parking for you and your guests<br />\n-&nbsp\;A great event and the opportunity to network with hundreds of business leaders and potential clients<br />\n<br />\n<strong><u>Thank You to Our Sponsors:</u></strong><br />\nBoard of Public Utilities<br />\nProvidence Medical Center<br />\nHumana<br />\nGoogle Fiber<br />\nUnified Government of KCK/WyCo<br />\nBurns &amp\; McDonnell<br />\nSecurity Bank<br />\nGreat Wolf Lodge<br />\nDesign Mechanical\, Inc.<br />\nHealthcare Resort of Kansas City<br />\nKC Aviation Department<br />\nMark One Electric Company\, Inc.<br />\nNebraska Furniture Mart<br />\nUniversity of Kansas Hospital<br />\nGreater KC Building and Construction Trades Council<br />\nMcAnany Van Cleave &amp\; Phillips<br />\nCandlewood Suites<br />\nKansas Speedway<br />\nNECA/IBEW Power Partners<br />\nAT&amp\;T<br />\nCintas<br />\nCountry Club Bank<br />\nJR &amp\; Co. Roofing Contractors<br />\nKU Medical Center<br />\nMain Street Credit Union<br />\nNeff Packaging<br />\nNPB<br />\nPipefitters<br />\nKCK Women&rsquo\;s Chamber<br />\nKCKCC
LOCATION:Children's Mercy Park (Boulevard Members Club) 1 Sporting Way Kansas City\, KS 66111
UID:e.1213.378
SEQUENCE:3
DTSTAMP:20260420T055349Z
URL:https://business.kckchamber.com/events/details/the-best-of-kck-and-wyandotte-county-378
END:VEVENT

END:VCALENDAR
