BEGIN:VCALENDAR
VERSION:2.0
PRODID:-//ChamberMaster//Event Calendar 2.0//EN
METHOD:PUBLISH
X-PUBLISHED-TTL:P3D
REFRESH-INTERVAL:P3D
CALSCALE:GREGORIAN
BEGIN:VEVENT
DTSTART:20140227T153000Z
DTEND:20140227T173000Z
X-MICROSOFT-CDO-ALLDAYEVENT:FALSE
SUMMARY:The Power of Email Marketing
DESCRIPTION:The Power of Email Marketing\n\n	\n\n	Feb 27\, 2014   KCK Chamber   9:30-11:30 am\n\n	Email Marketing is still the most effective way to rev up your referrals and your revenue. This seminar will cover how to use email to make a real difference in your marketing program. We'll also provide tips\, techniques and strategies. This seminar is great for beginners that want to know how to start creating an email marketing campaign for their business or non-profit.\n\n	\n\n	Click here to register: http://events.constantcontact.com/register/event?llr=zotg6ojab&oeidk=a07e8tsosn85320aa73
X-ALT-DESC;FMTTYPE=text/html:<div style="color: gray">\n	<span style="font-size: medium"><strong><span style="color: #367aa7">The Power of Email Marketing</span></strong></span><br />\n	<br />\n	<span style="color: #000000"><span style="font-size: medium">Feb 27\, 2014 &bull\; KCK Chamber &bull\; 9:30-11:30 am</span><br />\n	<span style="font-size: 12pt"><span style="font-family: times new roman\, serif"><span style="font-family: times new roman">Email Marketing is still the most effective way to rev up your referrals and your revenue. This seminar will cover how to use email to make a real difference in your marketing program. We&#39\;ll also provide tips\, techniques and strategies. This seminar is great for beginners that want to know how to start creating an email marketing campaign for their business or non-profit.<br />\n	<br />\n	Click here to register: <span style="font-size: 12pt"><span style="font-family: times new roman\, serif"><a href="http://events.constantcontact.com/register/event?llr=zotg6ojab&amp\;oeidk=a07e8tsosn85320aa73"><span style="color: #800080">http://events.constantcontact.com/register/event?llr=zotg6ojab&amp\;oeidk=a07e8tsosn85320aa73</span></a></span></span></span></span></span></span></div>\n
LOCATION:KCK Chamber 727 Minnesota Kansas City\, Kansas
UID:e.1213.141
SEQUENCE:3
DTSTAMP:20260424T101154Z
URL:https://business.kckchamber.com/events/details/the-power-of-email-marketing-02-27-2014-141
END:VEVENT

END:VCALENDAR
