BEGIN:VCALENDAR
VERSION:2.0
PRODID:-//ChamberMaster//Event Calendar 2.0//EN
METHOD:PUBLISH
X-PUBLISHED-TTL:P3D
REFRESH-INTERVAL:P3D
CALSCALE:GREGORIAN
BEGIN:VEVENT
DTSTART:20140412T140000Z
DTEND:20140412T153000Z
X-MICROSOFT-CDO-ALLDAYEVENT:FALSE
SUMMARY:Town Hall Forum
DESCRIPTION:Town Hall Forum\n\n\n\nMeet with members of the Wyandotte County Delegation to get an update on legislation being discussed during this session. Bring your questions and comments.
X-ALT-DESC;FMTTYPE=text/html:<strong>Town Hall Forum</strong><br />\n<br />\nMeet with members of the Wyandotte County Delegation to get an update on legislation being discussed during this session. Bring your questions and comments.
LOCATION:West Wyandotte Public Library 1737 N. 82nd Street Kansas City\, KS 66112
UID:e.1213.156
SEQUENCE:3
DTSTAMP:20260424T053043Z
URL:https://business.kckchamber.com/events/details/town-hall-forum-04-12-2014-156
END:VEVENT

END:VCALENDAR
