BEGIN:VCALENDAR
VERSION:2.0
PRODID:-//ChamberMaster//Event Calendar 2.0//EN
METHOD:PUBLISH
X-PUBLISHED-TTL:P3D
REFRESH-INTERVAL:P3D
CALSCALE:GREGORIAN
BEGIN:VEVENT
DTSTART:20250315T134500Z
DTEND:20250315T174500Z
X-MICROSOFT-CDO-ALLDAYEVENT:FALSE
SUMMARY:Urban Hikes Taste Your Way Through KCK
DESCRIPTION:We're sending you to Urban Hikes KC to book this unique winter adventure. Starting at Kinship Caf \, you'll explore the history and art of the Cathedral neighborhood\, Minnesota Ave\, and Central Ave while warming up with delicious local flavors. Enjoy coffee\, Mexican & Cuban pastries\, champurrado (Mexican hot chocolate)\, and even a taco! The journey wraps up with a ride on Bus 101 back to our starting point.\n\n\n\nBOOK NOW\n\n  Approx. 3 miles | 3.5-4 hours | $50 per person\n\nAll March Hikes:\n\n\n	Taste Your Way Through KCK   3/15\, 8:45AM-12:45PM\n	Rosedale   3/15\, 2PM-4:30PM\n	Strawberry Hill   3/23\, 9AM-12:30PM\n	Quindaro Ruins   3/29\, 9AM-11:30AM
X-ALT-DESC;FMTTYPE=text/html:<p data-end="491" data-start="72">We&rsquo\;re sending you to <strong data-end="111" data-start="93">Urban Hikes KC</strong> to book this unique winter adventure. Starting at <strong data-end="178" data-start="162">Kinship Caf&eacute\;</strong>\, you&rsquo\;ll explore the history and art of the Cathedral neighborhood\, Minnesota Ave\, and Central Ave&mdash\;while warming up with delicious local flavors. Enjoy coffee\, Mexican &amp\; Cuban pastries\, champurrado (Mexican hot chocolate)\, and even a taco! The journey wraps up with a ride on Bus 101 back to our starting point.<br />\n<br />\n<a href="https://urbanhikeskc.com/hikes/"><strong>BOOK NOW</strong></a></p>\n\n<p data-end="548" data-start="493">&#128205\; <strong data-end="546" data-start="496">Approx. 3 miles | 3.5-4 hours | $50 per person</strong></p>\n\n<p data-end="610" data-start="550"><strong>All March Hikes:</strong></p>\n\n<ul>\n	<li data-end="401" data-start="344"><strong data-end="376" data-start="346">Taste Your Way Through KCK</strong>&nbsp\;&ndash\; 3/15\, 8:45AM-12:45PM</li>\n	<li data-end="437" data-start="402"><a href="https://business.kckchamber.com/events/details/urban-hikes-rosedale-2648"><strong data-end="416" data-start="404">Rosedale</strong>&nbsp\;&ndash\; 3/15\, 2PM-4:30PM</a></li>\n	<li data-end="481" data-start="438"><a href="https://business.kckchamber.com/events/details/urban-hikes-strawberry-hill-2649"><strong data-end="459" data-start="440">Strawberry Hill</strong>&nbsp\;&ndash\; 3/23\, 9AM-12:30PM</a></li>\n	<li data-end="524" data-start="482"><a href="https://business.kckchamber.com/events/details/urban-hikes-quindaro-ruins-2650"><strong data-end="502" data-start="484">Quindaro Ruins</strong>&nbsp\;&ndash\; 3/29\, 9AM-11:30AM</a></li>\n</ul>\n\n<p data-end="650" data-is-last-node="" data-is-only-node="" data-start="612">&nbsp\;</p>\n
LOCATION:Starting at Kinship Caf
UID:e.1213.2647
SEQUENCE:3
DTSTAMP:20260422T072607Z
URL:https://business.kckchamber.com/events/details/urban-hikes-taste-your-way-through-kck-2647
END:VEVENT

END:VCALENDAR
