BEGIN:VCALENDAR
VERSION:2.0
PRODID:-//ChamberMaster//Event Calendar 2.0//EN
METHOD:PUBLISH
X-PUBLISHED-TTL:P3D
REFRESH-INTERVAL:P3D
CALSCALE:GREGORIAN
BEGIN:VEVENT
DTSTART:20140529T143000Z
DTEND:20140529T163000Z
X-MICROSOFT-CDO-ALLDAYEVENT:FALSE
SUMMARY:Video Marketing 101
DESCRIPTION:Video Marketing 101 - Using YouTube\, Vimeo & Animoto plus Email Marketing to grow your business\n\n\n\nVideo marketing is a fantastic way to reach a broader audience with your engagement marketing as well as the perfect tool for customer service. Video is also now a major component of many social media channels. In this seminar\, we will explore how to get started with video marketing on YouTube as well as alternate video marketing channels such as Vimeo. We will also explore the service Animoto.\n\n	Learn why businesses are using video marketing\n	See examples of Video Marketing\n	Learn what to do and not to do with video marketing\n	Learn the steps of the video making and promotion process\n	Walk away with the steps to get started with video marketing\n	See how to promote and market your videos\n	Understand which channels and services are right for you and your business\n	Throughout this seminar we will also talk about the basic strategies of how to grow your business.\n\n\n\nThis is NOT a hands-on seminar\, computers are not a requirement.\n\n\n\nKimberly Beer\, Midnight Productions and Constant Contact consultant\, is the presenter.
X-ALT-DESC;FMTTYPE=text/html:<strong>Video Marketing 101 - Using YouTube\, Vimeo &amp\; Animoto plus Email Marketing to grow your business</strong><br />\n<br />\nVideo marketing is a fantastic way to reach a broader audience with your engagement marketing as well as the perfect tool for customer service. Video is also now a major component of many social media channels. In this seminar\, we will explore how to get started with video marketing on YouTube as well as alternate video marketing channels such as Vimeo. We will also explore the service Animoto.\n<ul>\n	<li>Learn why businesses are using video marketing</li>\n	<li>See examples of Video Marketing</li>\n	<li>Learn what to do and not to do with video marketing</li>\n	<li>Learn the steps of the video making and promotion process</li>\n	<li>Walk away with the steps to get started with video marketing</li>\n	<li>See how to promote and market your videos</li>\n	<li>Understand which channels and services are right for you and your business</li>\n	<li>Throughout this seminar we will also talk about the basic strategies of how to grow your business.</li>\n</ul>\n<br />\nThis is NOT a hands-on seminar\, computers are not a requirement.<br />\n<br />\nKimberly Beer\, Midnight Productions and Constant Contact consultant\, is the presenter.
LOCATION:KCK Chamber of Commerce 727 Minnesota Kansas City\, Kansas 66101
UID:e.1213.172
SEQUENCE:3
DTSTAMP:20260424T035153Z
URL:https://business.kckchamber.com/events/details/video-marketing-101-05-29-2014-172
END:VEVENT

END:VCALENDAR
