BEGIN:VCALENDAR
VERSION:2.0
PRODID:-//ChamberMaster//Event Calendar 2.0//EN
METHOD:PUBLISH
X-PUBLISHED-TTL:P3D
REFRESH-INTERVAL:P3D
CALSCALE:GREGORIAN
BEGIN:VEVENT
DTSTART:20150507T123000Z
DTEND:20150507T140000Z
X-MICROSOFT-CDO-ALLDAYEVENT:FALSE
SUMMARY:What's Ahead in Wyandotte County
DESCRIPTION:Wyandotte County has changed dramatically since Kansas Speedway opened in 2001. It now boasts corporate offices\, is experiencing an apartment boom and is in the mix to land a host of projects. Join us for a discussion of what's working\, what still needs to be done and what's ahead in Wyandotte County.\n\n\n\nPANELISTS\n\n\n\nBRENT MILES\n\nVice president of economic development for NorthPoint Development\n\n\n\nHIDY ORTIZ\n\nVice president and manager of Enterprise Bank & Trust's Kansas City\, Kan.\, branch.\n\n\n\nNORMAN SMITH\n\nA founding owner of NPB Cos. Inc.\, a Kansas City\, Kan.-based event security and staffing firm.\n\n\n\nGWEN LOCHER\n\nManaging partner of Lane4 Property Group
X-ALT-DESC;FMTTYPE=text/html:Wyandotte County has changed dramatically since Kansas Speedway opened in 2001. It now boasts corporate offices\, is experiencing an apartment boom and is in the mix to land a host of projects. Join us for a discussion of what&rsquo\;s working\, what still needs to be done and what&rsquo\;s ahead in Wyandotte County.<br />\n<br />\n<strong>PANELISTS</strong><br />\n<br />\n<u>BRENT MILES</u><br />\nVice president of economic development for NorthPoint Development<br />\n<br />\n<u>HIDY ORTIZ</u><br />\nVice president and manager of Enterprise Bank &amp\; Trust&rsquo\;s Kansas City\, Kan.\, branch.<br />\n<br />\n<u>NORMAN SMITH</u><br />\nA founding owner of NPB Cos. Inc.\, a Kansas City\, Kan.-based event security and staffing firm.<br />\n<br />\n<u>GWEN LOCHER</u><br />\nManaging partner of Lane4 Property Group
LOCATION:Readon Center 520 Minnesota Avenue Kansas City\, KS 66101
UID:e.1213.245
SEQUENCE:3
DTSTAMP:20260421T084353Z
URL:https://business.kckchamber.com/events/details/what-s-ahead-in-wyandotte-county-05-07-2015-245
END:VEVENT

END:VCALENDAR
