BEGIN:VCALENDAR
VERSION:2.0
PRODID:-//ChamberMaster//Event Calendar 2.0//EN
METHOD:PUBLISH
X-PUBLISHED-TTL:P3D
REFRESH-INTERVAL:P3D
CALSCALE:GREGORIAN
BEGIN:VEVENT
DTSTART:20120421T133000Z
DTEND:20120421T200000Z
X-MICROSOFT-CDO-ALLDAYEVENT:FALSE
SUMMARY:Women in Business Summit
DESCRIPTION:Excitement is in the air\, as the first Women in Business Summit makes its mark in Wyandotte County on Saturday\, April 21\, 2012 from 8:30 am to 3:00 pm at the Jewell Center\, KCK Community College\, 7250 State Avenue\, Kansas City\, Kansas.\n\n	The day-long schedule is full of informative and hands-on workshops designed to help women get the most from being in business. Your sponsorship as a friend in business and the community will help ensure this unique event is affordable for women from all career levels. In addition\, proceeds will benefit scholarships to support non-traditional female students who choose to return to higher education\, in order to improve their lives and the lives of their families.\n\n	There will be plenty of information and inspiration for any working woman\, so make plans to come on board as an event sponsor!
X-ALT-DESC;FMTTYPE=text/html:<p>\n	Excitement is in the air\, as the first Women in Business Summit makes its mark in Wyandotte County on Saturday\, April 21\, 2012 from 8:30 am to 3:00 pm at the Jewell Center\, KCK Community College\, 7250 State Avenue\, Kansas City\, Kansas.</p>\n<p>\n	The day-long schedule is full of informative and hands-on workshops designed to help women get the most from being in business. Your sponsorship as a friend in business and the community will help ensure this unique event is affordable for women from all career levels. In addition\, proceeds will benefit scholarships to support non-traditional female students who choose to return to higher education\, in order to improve their lives and the lives of their families.</p>\n<p>\n	There will be plenty of information and inspiration for any working woman\, so make plans to come on board as an event sponsor!</p>\n<font size="3"><span _fck_bookmark="1" style="display: none">&nbsp\;</span></font> 
LOCATION:KCK Community College Jewell Center 7250 State Avenue
UID:e.1213.36
SEQUENCE:3
DTSTAMP:20260425T183743Z
URL:https://business.kckchamber.com/events/details/women-in-business-summit-04-21-2012-36
END:VEVENT

END:VCALENDAR
