BEGIN:VCALENDAR
VERSION:2.0
PRODID:-//ChamberMaster//Event Calendar 2.0//EN
METHOD:PUBLISH
X-PUBLISHED-TTL:P3D
REFRESH-INTERVAL:P3D
CALSCALE:GREGORIAN
BEGIN:VEVENT
DTSTART:20140211T180000Z
DTEND:20140211T190000Z
X-MICROSOFT-CDO-ALLDAYEVENT:FALSE
SUMMARY:Wyandotte County Delegation Luncheon
DESCRIPTION:Join us for lunch with the Wyandotte and Leavenworth County delegations to present the KCK Chamber's Legislative Agenda and join in a discussion with them about issues important to the community. Reservations are required. Please contact Greg Kindle at greg@kckchamber.com or call 913-371-3070 by Monday\, Feb. 10.
X-ALT-DESC;FMTTYPE=text/html:<div style="color: gray">\n	<span style="font-family: arial"><span style="color: #000000"><span style="font-size: medium">Join us for lunch with the Wyandotte and Leavenworth County delegations to present the KCK Chamber&rsquo\;s Legislative Agenda and join in a discussion with them about issues important to the community.&nbsp\;<strong>Reservations are required</strong>.&nbsp\;Please contact Greg Kindle at </span></span><a href="mailto:greg@kckchamber.com"><a href="mailto:greg@kckchamber.com"><span style="color: #000000"><strong><span style="font-size: medium">greg@kckchamber.com</span></strong></span></a></a><span style="color: #000000"><span style="font-size: medium"><strong><span style="font-size: medium"> or call 913-371-3070 by Monday\, Feb. 10.</span></strong></span></span></span></div>\n
LOCATION:Kansas State Capitol Room 152 South Topeka\, Kansas
UID:e.1213.146
SEQUENCE:3
DTSTAMP:20260424T085822Z
URL:https://business.kckchamber.com/events/details/wyandotte-county-delegation-luncheon-02-11-2014-146
END:VEVENT

END:VCALENDAR
