BEGIN:VCALENDAR
VERSION:2.0
PRODID:-//ChamberMaster//Event Calendar 2.0//EN
METHOD:PUBLISH
X-PUBLISHED-TTL:P3D
REFRESH-INTERVAL:P3D
CALSCALE:GREGORIAN
BEGIN:VEVENT
DTSTART:20140108T003000Z
DTEND:20140108T023000Z
X-MICROSOFT-CDO-ALLDAYEVENT:FALSE
SUMMARY:Wyandotte County Legislative Delegation Town Hall Meeting
DESCRIPTION:The Wyandotte County Legislative Delegation will have its annual Town Hall meeting from 6:30 p.m. - 8:30 p.m. on Tuesday\, Jan. 7 at the South Branch Library\, main meeting room\, located at 3104 Strong Avenue\, Kansas City\, Kan.\n\n \n\nThis annual event allows citizens the opportunity to talk to members of the delegation prior to the start of the Legislative session in Topeka\, which begins on Monday\, Jan. 13. This year's delegation Chair is Representative Stan Frownfelter who will preside over the Town Hall meeting. \n\n \n\nAll citizens\, businesses and interested parties are invited and encouraged to attend.\n\n \n\nFor more information\, contact Representative Stan Frownfelter at stanfrownfelter@yahoo.com.
X-ALT-DESC;FMTTYPE=text/html:<span style="font-size: 12px"><span style="font-family: times new roman">The Wyandotte County Legislative Delegation will&nbsp\;have its annual Town Hall meeting from 6:30 p.m. - 8:30 p.m. on Tuesday\, Jan. 7 at the South Branch Library\, main meeting room\, located at 3104 Strong Avenue\, Kansas City\, Kan.<br />\n&nbsp\;<br />\nThis annual event allows citizens the opportunity to talk to members of the delegation prior to the start of the Legislative session in Topeka\, which begins on Monday\, Jan. 13.&nbsp\;This year&rsquo\;s delegation Chair is Representative Stan Frownfelter who will preside over the Town Hall meeting.&nbsp\;<br />\n&nbsp\;<br />\nAll citizens\, businesses and interested parties are invited and encouraged to attend.<br />\n&nbsp\;<br />\nFor more information\, contact Representative Stan Frownfelter at <a href="mailto:stanfrownfelter@yahoo.com">stanfrownfelter@yahoo.com</a>.</span></span><br />\n
LOCATION:South Branch Library Main Meeting Room 3104 Strong Avenue Kansas City\, Kansas
UID:e.1213.137
SEQUENCE:3
DTSTAMP:20260424T101459Z
URL:https://business.kckchamber.com/events/details/wyandotte-county-legislative-delegation-town-hall-meeting-01-07-2014-137
END:VEVENT

END:VCALENDAR
